BEGIN:VCALENDAR
VERSION:2.0
METHOD:PUBLISH
BEGIN:VTIMEZONE
TZID:Europe/Istanbul
LAST-MODIFIED:20260422T204147Z
X-LIC-LOCATION:Europe/Istanbul
BEGIN:STANDARD
TZNAME:+03
TZOFFSETFROM:+0300
TZOFFSETTO:+0300
DTSTART:19700101T000000
END:STANDARD
END:VTIMEZONE
BEGIN:VEVENT
DTSTART;TZID=Europe/Istanbul:20240103T123000
DTEND;TZID=Europe/Istanbul:20240103T133000
LOCATION:YDYO Konferans Salonu
TRANSP: OPAQUE
SEQUENCE:0
UID:
DTSTAMP:20260422T204147Z
SUMMARY:&#39;Markamı Globale Nasıl Taşırım? E-Ticaret ve ETSY&#39;
DESCRIPTION:TAÜ-SEM&#39;in düzenlediği ve ETSY-Türkiye E-Ticaret Yöneticisi Doğukan Bayraktar&#39;ın sunum yapacağı &#39;Markamı Globale Nasıl Taşırım? E-Ticaret ve ETSY&#39; başlıklı seminer YDYO Konferans Salonunda gerçekleştirilecektir. Tüm TAÜ mensuplarını etkinliğimize bekliyoruz.
PRIORITY:1
CLASS:PUBLIC
BEGIN:VALARM
TRIGGER:-PT10080M
ACTION:DISPLAY
DESCRIPTION:Reminder
END:VALARM
END:VEVENT
END:VCALENDAR